View In:
ArcGIS JavaScript
ArcGIS Online Map Viewer
ArcGIS Earth
ArcMap
ArcGIS Pro
View Footprint In:
ArcGIS Online Map Viewer
Service Description: PA Forest Action Plan - Priority Landscapes (Forest Health)
Map Name: Layers
Legend
All Layers and Tables
Layers:
Description:
Copyright Text: PA DCNR, Bureau of Forestry
Spatial Reference:
4326
(4326)
Single Fused Map Cache: true
Tile Info:
- Height: 512
- Width: 512
- DPI: 96
-
Levels of Detail: 16
-
Level ID: 0
[ Start Tile, End Tile ]
- Resolution: 0.3515625065578945
- Scale: 1.47748799285417E8
-
Level ID: 1
[ Start Tile, End Tile ]
- Resolution: 0.17578125327894775
- Scale: 7.38743996427087E7
-
Level ID: 2
[ Start Tile, End Tile ]
- Resolution: 0.08789062663947399
- Scale: 3.69371998213544E7
-
Level ID: 3
[ Start Tile, End Tile ]
- Resolution: 0.043945313319736994
- Scale: 1.84685999106772E7
-
Level ID: 4
[ Start Tile, End Tile ]
- Resolution: 0.021972656659868472
- Scale: 9234299.95533859
-
Level ID: 5
[ Start Tile, End Tile ]
- Resolution: 0.010986328329934226
- Scale: 4617149.97766929
-
Level ID: 6
[ Start Tile, End Tile ]
- Resolution: 0.005493164164967124
- Scale: 2308574.98883465
-
Level ID: 7
[ Start Tile, End Tile ]
- Resolution: 0.0027465820824835504
- Scale: 1154287.49441732
-
Level ID: 8
[ Start Tile, End Tile ]
- Resolution: 0.0013732910412417797
- Scale: 577143.747208662
-
Level ID: 9
[ Start Tile, End Tile ]
- Resolution: 6.866455206208899E-4
- Scale: 288571.873604331
-
Level ID: 10
[ Start Tile, End Tile ]
- Resolution: 3.433227603104438E-4
- Scale: 144285.936802165
-
Level ID: 11
[ Start Tile, End Tile ]
- Resolution: 1.716613801552224E-4
- Scale: 72142.9684010827
-
Level ID: 12
[ Start Tile, End Tile ]
- Resolution: 8.583069007761132E-5
- Scale: 36071.4842005414
-
Level ID: 13
[ Start Tile, End Tile ]
- Resolution: 4.291534503880566E-5
- Scale: 18035.7421002707
-
Level ID: 14
[ Start Tile, End Tile ]
- Resolution: 2.1457672519402802E-5
- Scale: 9017.87105013534
-
Level ID: 15
[ Start Tile, End Tile ]
- Resolution: 1.0728836259701401E-5
- Scale: 4508.93552506767
- Format: PNG8
- Compression Quality: 0.0
- Origin: X: -180.0
Y: 90.0
- Spatial Reference: 4326
(4326)
Initial Extent:
XMin: -81.99253645324572
YMin: 41.06601907106329
XMax: -73.2413678006541
YMax: 43.422423189696424
Spatial Reference: 4326
(4326)
Full Extent:
XMin: -80.61706609555641
YMin: 39.674383224482504
XMax: -74.61683815834344
YMax: 42.28279807491862
Spatial Reference: 4326
(4326)
Units: esriDecimalDegrees
Supported Image Format Types: PNG32,PNG24,PNG,JPG,DIB,TIFF,EMF,PS,PDF,GIF,SVG,SVGZ,BMP
Document Info:
Title: priority_fpm
Author: jpetroski
Comments: PA Forest Action Plan - Priority Landscapes (Forest Health)
Subject: PA Forest Action Plan - Priority Landscapes (Forest Health)
Category:
Keywords: Forest Action Plan,Priority Landscapes,Forestry,Forest Health
AntialiasingMode: None
TextAntialiasingMode: Force
Supports Dynamic Layers: false
MaxRecordCount: 1000
MaxImageHeight: 4096
MaxImageWidth: 4096
Supported Query Formats: JSON, geoJSON
Min Scale: 4617149.97766929
Max Scale: 4508.93552506767
Supports Datum Transformation: true
Child Resources:
Info
Supported Operations:
Export Map
Identify
QueryDomains
QueryLegends
Find
Return Updates