View In:
ArcGIS JavaScript
ArcGIS Online Map Viewer
ArcGIS Earth
ArcMap
ArcGIS Pro
View Footprint In:
ArcGIS Online Map Viewer
Service Description: Using GIS technologies, the Bureau conducted an overlay of multiple resource data layers to create geospatial prioritization of land area for seven themes: (1) Forest Health, (2) Working Forests, (3) Urban Forests, (4) Climate Change, (5) Wildfire, (6) Ecological, and (7) Water. For each theme, a priority landscapes map was produced that classifies all 28 million acres of the state into high-medium-low priority categories based on the map's theme.
Map Name: Priority Areas Urban and Community Forest 2020
Legend
All Layers and Tables
Layers:
Description:
Copyright Text: PA DCNR, Bureau of Forestry
Spatial Reference:
102100
(3857)
Single Fused Map Cache: true
Tile Info:
- Height: 256
- Width: 256
- DPI: 96
-
Levels of Detail: 24
-
Level ID: 1
[ Start Tile, End Tile ]
- Resolution: 78271.5169639999
- Scale: 2.95828763795777E8
-
Level ID: 2
[ Start Tile, End Tile ]
- Resolution: 39135.7584820001
- Scale: 1.47914381897889E8
-
Level ID: 3
[ Start Tile, End Tile ]
- Resolution: 19567.8792409999
- Scale: 7.3957190948944E7
-
Level ID: 4
[ Start Tile, End Tile ]
- Resolution: 9783.93962049996
- Scale: 3.6978595474472E7
-
Level ID: 5
[ Start Tile, End Tile ]
- Resolution: 4891.96981024998
- Scale: 1.8489297737236E7
- Format: MIXED
- Compression Quality: 75.0
- Origin: X: -2.0037508342787E7
Y: 2.0037508342787E7
- Spatial Reference: 102100
(3857)
Initial Extent:
XMin: -8876026.301582968
YMin: 4799408.548274247
XMax: -8404459.194886947
YMax: 5222672.774249667
Spatial Reference: 102100
(3857)
Full Extent:
XMin: -8974318.748185942
YMin: 4818647.831273129
XMax: -8306166.748283973
YMax: 5203433.491250784
Spatial Reference: 102100
(3857)
Units: esriMeters
Supported Image Format Types: PNG32,PNG24,PNG,JPG,DIB,TIFF,EMF,PS,PDF,GIF,SVG,SVGZ,BMP
Document Info:
Title: Urban and Community Forest Priority Areas Map
Author:
Comments: <DIV STYLE="text-align:Left;"><DIV><DIV><P><SPAN>Using GIS technologies, the Bureau conducted an overlay of multiple resource data layers to create geospatial prioritization of land area for seven themes: (1) Forest Health, (2) Working Forests, (3) Urban Forests, (4) Climate Change, (5) Wildfire, (6) Ecological, and (7) Water. For each theme, a priority landscapes map was produced that classifies all 28 million acres of the state into high-medium-low priority categories based on the map's theme.</SPAN></P></DIV></DIV></DIV>
Subject: Urban and Community Forest Priority Areas from Pennsylvania's 2020 Forest Action Plan (FAP).
Category:
Keywords: Forest Action Plan,FAP,Pennsylvania,Forestry,Priority Areas,Urban,Community
AntialiasingMode: None
TextAntialiasingMode: Force
Supports Dynamic Layers: false
MaxRecordCount: 2000
MaxImageHeight: 4096
MaxImageWidth: 4096
Supported Query Formats: JSON, geoJSON, PBF
Min Scale: 9244648.868618
Max Scale: 144447.638572
Supports Datum Transformation: true
Child Resources:
Info
Supported Operations:
Export Map
Identify
QueryDomains
QueryLegends
Find
Return Updates